View In:
ArcGIS JavaScript
ArcGIS.com Map
Google Earth
ArcMap
View Footprint In:
ArcGIS.com Map
Service Description:
Name: FairImage
Description: FairImage
Single Fused Map Cache: false
Extent:
XMin: 420661.6620665738
YMin: 2053348.0160435215
XMax: 421521.2531265738
YMax: 2053962.4054635214
Spatial Reference: 103022
(6438)
Initial Extent:
XMin: 420661.6620665738
YMin: 2053348.0160435215
XMax: 421521.2531265738
YMax: 2053962.4054635214
Spatial Reference: 103022
(6438)
Full Extent:
XMin: 420661.6620665738
YMin: 2053348.0160435215
XMax: 421521.2531265738
YMax: 2053962.4054635214
Spatial Reference: 103022
(6438)
Pixel Size X: 0.6926600000000049
Pixel Size Y: 0.6926599999998928
Band Count: 3
Pixel Type: U16
RasterFunction Infos: N/A
Mensuration Capabilities: Basic
Has Histograms: true
Has Colormap: false
Has Multi Dimensions : false
Rendering Rule:
Min Scale: 0
Max Scale: 0
Copyright Text:
Service Data Type: esriImageServiceDataTypeGeneric
Min Values: 0, 0, 0
Max Values: 255, 255, 255
Mean Values: 156.02013654319, 158.06081602997, 146.39673852217
Standard Deviation Values: 68.805524464777, 67.970351072161, 75.225273491283
Object ID Field:
Fields:
None
Default Mosaic Method: Center
Allowed Mosaic Methods:
SortField:
SortValue: null
Mosaic Operator: First
Default Compression Quality: 75
Default Resampling Method: Bilinear
Max Record Count: null
Max Image Height: 4100
Max Image Width: 15000
Max Download Image Count: null
Max Mosaic Image Count: null
Allow Raster Function: true
Allow Compute TiePoints: false
Supports Statistics: false
Supports Advanced Queries: false
Use StandardizedQueries: true
Raster Type Infos:
Name: Raster Dataset
Description: Supports all ArcGIS Raster Datasets
Help:
Has Raster Attribute Table: false
Edit Fields Info: null
Ownership Based AccessControl For Rasters: null
Child Resources:
Info
Histograms
Key Properties
Legend
MultiDimensionalInfo
rasterFunctionInfos
Supported Operations:
Export Image
Identify
Measure
Compute Histograms
Get Samples
Compute Class Statistics