{
 "currentVersion": 10.31,
 "serviceDescription": "",
 "name": "FairImage",
 "description": "FairImage",
 "extent": {
  "xmin": 420661.6620665738,
  "ymin": 2053348.0160435215,
  "xmax": 421521.2531265738,
  "ymax": 2053962.4054635214,
  "spatialReference": {
   "wkid": 103022,
   "latestWkid": 6438
  }
 },
 "initialExtent": {
  "xmin": 420661.6620665738,
  "ymin": 2053348.0160435215,
  "xmax": 421521.2531265738,
  "ymax": 2053962.4054635214,
  "spatialReference": {
   "wkid": 103022,
   "latestWkid": 6438
  }
 },
 "fullExtent": {
  "xmin": 420661.6620665738,
  "ymin": 2053348.0160435215,
  "xmax": 421521.2531265738,
  "ymax": 2053962.4054635214,
  "spatialReference": {
   "wkid": 103022,
   "latestWkid": 6438
  }
 },
 "pixelSizeX": 0.6926600000000049,
 "pixelSizeY": 0.6926599999998928,
 "bandCount": 3,
 "pixelType": "U16",
 "minPixelSize": 0,
 "maxPixelSize": 0,
 "copyrightText": "",
 "serviceDataType": "esriImageServiceDataTypeGeneric",
 "minValues": [
  0,
  0,
  0
 ],
 "maxValues": [
  255,
  255,
  255
 ],
 "meanValues": [
  156.02013654319,
  158.06081602997,
  146.39673852217
 ],
 "stdvValues": [
  68.805524464777,
  67.970351072161,
  75.225273491283
 ],
 "objectIdField": "",
 "fields": [],
 "capabilities": "Image,Metadata,Mensuration",
 "defaultMosaicMethod": "Center",
 "allowedMosaicMethods": "",
 "sortField": "",
 "sortValue": null,
 "mosaicOperator": "First",
 "defaultCompressionQuality": 75,
 "defaultResamplingMethod": "Bilinear",
 "maxImageHeight": 4100,
 "maxImageWidth": 15000,
 "allowRasterFunction": true,
 "rasterFunctionInfos": [],
 "rasterTypeInfos": [
  {
   "name": "Raster Dataset",
   "description": "Supports all ArcGIS Raster Datasets",
   "help": ""
  }
 ],
 "mensurationCapabilities": "Basic",
 "hasHistograms": true,
 "hasColormap": false,
 "hasRasterAttributeTable": false,
 "minScale": 0,
 "maxScale": 0,
 "exportTilesAllowed": false,
 "hasMultidimensions": false,
 "supportsStatistics": false,
 "supportsAdvancedQueries": false,
 "editFieldsInfo": null,
 "ownershipBasedAccessControlForRasters": null,
 "allowComputeTiePoints": false,
 "useStandardizedQueries": true,
 "advancedQueryCapabilities": {
  "useStandardizedQueries": true,
  "supportsStatistics": false,
  "supportsOrderBy": false,
  "supportsDistinct": false,
  "supportsPagination": false
 },
 "spatialReference": {
  "wkid": 103022,
  "latestWkid": 6438
 }
}
